BEGIN:VCALENDAR
VERSION:2.0
PRODID:-// - ECPv6.15.14//NONSGML v1.0//EN
CALSCALE:GREGORIAN
METHOD:PUBLISH
X-ORIGINAL-URL:https://dynamiken-des-religioesen.uni-frankfurt.de
X-WR-CALDESC:Veranstaltungen für 
REFRESH-INTERVAL;VALUE=DURATION:PT1H
X-Robots-Tag:noindex
X-PUBLISHED-TTL:PT1H
BEGIN:VTIMEZONE
TZID:Europe/Berlin
BEGIN:DAYLIGHT
TZOFFSETFROM:+0100
TZOFFSETTO:+0200
TZNAME:CEST
DTSTART:20230326T010000
END:DAYLIGHT
BEGIN:STANDARD
TZOFFSETFROM:+0200
TZOFFSETTO:+0100
TZNAME:CET
DTSTART:20231029T010000
END:STANDARD
BEGIN:DAYLIGHT
TZOFFSETFROM:+0100
TZOFFSETTO:+0200
TZNAME:CEST
DTSTART:20240331T010000
END:DAYLIGHT
BEGIN:STANDARD
TZOFFSETFROM:+0200
TZOFFSETTO:+0100
TZNAME:CET
DTSTART:20241027T010000
END:STANDARD
BEGIN:DAYLIGHT
TZOFFSETFROM:+0100
TZOFFSETTO:+0200
TZNAME:CEST
DTSTART:20250330T010000
END:DAYLIGHT
BEGIN:STANDARD
TZOFFSETFROM:+0200
TZOFFSETTO:+0100
TZNAME:CET
DTSTART:20251026T010000
END:STANDARD
END:VTIMEZONE
BEGIN:VEVENT
DTSTART;TZID=Europe/Berlin:20240524T100000
DTEND;TZID=Europe/Berlin:20240524T160000
DTSTAMP:20260420T030853
CREATED:20240427T184218Z
LAST-MODIFIED:20250127T092155Z
UID:2628-1716544800-1716566400@dynamiken-des-religioesen.uni-frankfurt.de
SUMMARY:Fachtag: Religion auf Instagram
DESCRIPTION:Beauty\, Kochen und Katzen – neben diesen Megatrends auf Instagram wachsen die Nischen für religiöse Kommunikation auf dem nicht mehr ganz jungen Kanal: Bibel\, Spiritualität\, Seelsorge\, Bildung\, Orientierung\, aber auch Abseitiges und Radikales findet hier in Video und Text seinen Ausdruck und weite Verbreitung. Wie entsteht hier Gemeinschaftsbildung? Was heißt hier Authentizität? Und: Wie gestalten sich Grenzen zwischen institutioneller und individueller Glaubenskommunikation? \n\n\n\nDie Veranstaltung wird gefördert durch die „Schnittstelle Religion“.
URL:https://dynamiken-des-religioesen.uni-frankfurt.de/event/fachtag-religion-auf-instagram/
LOCATION:Haus am Dom\, Domplatz 3\, 60311 Frankfurt am Main
ATTACH;FMTTYPE=image/jpeg:https://dynamiken-des-religioesen.uni-frankfurt.de/wp-content/uploads/2024/04/Religion-auf-Instagram.jpg
END:VEVENT
END:VCALENDAR