BEGIN:VCALENDAR
VERSION:2.0
PRODID:-// - ECPv6.15.14//NONSGML v1.0//EN
CALSCALE:GREGORIAN
METHOD:PUBLISH
X-ORIGINAL-URL:https://dynamiken-des-religioesen.uni-frankfurt.de
X-WR-CALDESC:Veranstaltungen für 
REFRESH-INTERVAL;VALUE=DURATION:PT1H
X-Robots-Tag:noindex
X-PUBLISHED-TTL:PT1H
BEGIN:VTIMEZONE
TZID:Europe/Berlin
BEGIN:DAYLIGHT
TZOFFSETFROM:+0100
TZOFFSETTO:+0200
TZNAME:CEST
DTSTART:20250330T010000
END:DAYLIGHT
BEGIN:STANDARD
TZOFFSETFROM:+0200
TZOFFSETTO:+0100
TZNAME:CET
DTSTART:20251026T010000
END:STANDARD
BEGIN:DAYLIGHT
TZOFFSETFROM:+0100
TZOFFSETTO:+0200
TZNAME:CEST
DTSTART:20260329T010000
END:DAYLIGHT
BEGIN:STANDARD
TZOFFSETFROM:+0200
TZOFFSETTO:+0100
TZNAME:CET
DTSTART:20261025T010000
END:STANDARD
BEGIN:DAYLIGHT
TZOFFSETFROM:+0100
TZOFFSETTO:+0200
TZNAME:CEST
DTSTART:20270328T010000
END:DAYLIGHT
BEGIN:STANDARD
TZOFFSETFROM:+0200
TZOFFSETTO:+0100
TZNAME:CET
DTSTART:20271031T010000
END:STANDARD
END:VTIMEZONE
BEGIN:VEVENT
DTSTART;TZID=Europe/Berlin:20260612T000000
DTEND;TZID=Europe/Berlin:20260613T235959
DTSTAMP:20260424T193607
CREATED:20260416T121356Z
LAST-MODIFIED:20260416T121357Z
UID:5112-1781222400-1781395199@dynamiken-des-religioesen.uni-frankfurt.de
SUMMARY:AIWG-Kongress 2026 „Von Texten und Kontexten: Islamische Theologie zwischen Vergangenheit\, Gegenwart und Zukunft“
DESCRIPTION:Der Fachkongress der Islamischen Theologie und Religionspädagogik bietet Raum für Austausch zu aktuellen Forschungsfragen und gesellschaftlich relevanten Themen im Feld der islamisch-theologischen Studien und Fragen muslimischen Lebens im deutschsprachigen Raum. In drei thematischen Sektionen – Text und Norm\, Lebenswelten sowie Islamische Theologie und Religionspädagogik im Kontext – eröffnet der Kongress die Möglichkeit für interdisziplinäre Erörterung\, kritische Reflexion und innovative Beiträge. \n\n\n\nAnmeldung sind bis zum 19. April 2026 möglich.
URL:https://dynamiken-des-religioesen.uni-frankfurt.de/event/aiwg-kongress-2026-von-texten-und-kontexten-islamische-theologie-zwischen-vergangenheit-gegenwart-und-zukunft/
ATTACH;FMTTYPE=image/png:https://dynamiken-des-religioesen.uni-frankfurt.de/wp-content/uploads/2026/04/Bildschirmfoto-2026-04-15-um-12.05.52.png
END:VEVENT
END:VCALENDAR