BEGIN:VCALENDAR
VERSION:2.0
PRODID:-// - ECPv6.15.14//NONSGML v1.0//EN
CALSCALE:GREGORIAN
METHOD:PUBLISH
X-ORIGINAL-URL:https://dynamiken-des-religioesen.uni-frankfurt.de
X-WR-CALDESC:Veranstaltungen für 
REFRESH-INTERVAL;VALUE=DURATION:PT1H
X-Robots-Tag:noindex
X-PUBLISHED-TTL:PT1H
BEGIN:VTIMEZONE
TZID:Europe/Berlin
BEGIN:DAYLIGHT
TZOFFSETFROM:+0100
TZOFFSETTO:+0200
TZNAME:CEST
DTSTART:20230326T010000
END:DAYLIGHT
BEGIN:STANDARD
TZOFFSETFROM:+0200
TZOFFSETTO:+0100
TZNAME:CET
DTSTART:20231029T010000
END:STANDARD
BEGIN:DAYLIGHT
TZOFFSETFROM:+0100
TZOFFSETTO:+0200
TZNAME:CEST
DTSTART:20240331T010000
END:DAYLIGHT
BEGIN:STANDARD
TZOFFSETFROM:+0200
TZOFFSETTO:+0100
TZNAME:CET
DTSTART:20241027T010000
END:STANDARD
BEGIN:DAYLIGHT
TZOFFSETFROM:+0100
TZOFFSETTO:+0200
TZNAME:CEST
DTSTART:20250330T010000
END:DAYLIGHT
BEGIN:STANDARD
TZOFFSETFROM:+0200
TZOFFSETTO:+0100
TZNAME:CET
DTSTART:20251026T010000
END:STANDARD
END:VTIMEZONE
BEGIN:VEVENT
DTSTART;TZID=Europe/Berlin:20240125T180000
DTEND;TZID=Europe/Berlin:20240125T200000
DTSTAMP:20260420T101431
CREATED:20240129T154803Z
LAST-MODIFIED:20250127T090437Z
UID:2224-1706205600-1706212800@dynamiken-des-religioesen.uni-frankfurt.de
SUMMARY:Antisemitismus: Gegenwärtige Formen erkennen und Debatten verstehen
DESCRIPTION:Vortrag von Prof. Dr. Christian Wiese\n\n\n\nIm Rahmen der virtuellen Vortragsreihe „Unter Freunden“\, veranstaltet von der Vereinigung von Freunden und Förderern der Goethe-Universität\, spricht Prof. Dr. Christian Wiese am 25. Januar 2024 um 18 Uhr zum Thema „Antisemitismus: Gegenwärtige Formen erkennen und Debatten verstehen“
URL:https://dynamiken-des-religioesen.uni-frankfurt.de/event/antisemitismus-gegenwaertige-formen-erkennen-und-debatten-verstehen/
CATEGORIES:Start_3
END:VEVENT
END:VCALENDAR