BEGIN:VCALENDAR
VERSION:2.0
PRODID:-// - ECPv6.15.14//NONSGML v1.0//EN
CALSCALE:GREGORIAN
METHOD:PUBLISH
X-ORIGINAL-URL:https://dynamiken-des-religioesen.uni-frankfurt.de
X-WR-CALDESC:Veranstaltungen für 
REFRESH-INTERVAL;VALUE=DURATION:PT1H
X-Robots-Tag:noindex
X-PUBLISHED-TTL:PT1H
BEGIN:VTIMEZONE
TZID:Europe/Berlin
BEGIN:DAYLIGHT
TZOFFSETFROM:+0100
TZOFFSETTO:+0200
TZNAME:CEST
DTSTART:20230326T010000
END:DAYLIGHT
BEGIN:STANDARD
TZOFFSETFROM:+0200
TZOFFSETTO:+0100
TZNAME:CET
DTSTART:20231029T010000
END:STANDARD
BEGIN:DAYLIGHT
TZOFFSETFROM:+0100
TZOFFSETTO:+0200
TZNAME:CEST
DTSTART:20240331T010000
END:DAYLIGHT
BEGIN:STANDARD
TZOFFSETFROM:+0200
TZOFFSETTO:+0100
TZNAME:CET
DTSTART:20241027T010000
END:STANDARD
BEGIN:DAYLIGHT
TZOFFSETFROM:+0100
TZOFFSETTO:+0200
TZNAME:CEST
DTSTART:20250330T010000
END:DAYLIGHT
BEGIN:STANDARD
TZOFFSETFROM:+0200
TZOFFSETTO:+0100
TZNAME:CET
DTSTART:20251026T010000
END:STANDARD
END:VTIMEZONE
BEGIN:VEVENT
DTSTART;TZID=Europe/Berlin:20240215T181500
DTEND;TZID=Europe/Berlin:20240215T200000
DTSTAMP:20260421T034927
CREATED:20240205T091119Z
LAST-MODIFIED:20240205T135417Z
UID:2322-1708020900-1708027200@dynamiken-des-religioesen.uni-frankfurt.de
SUMMARY:Christian Ambivalence and the Current Antisemitism Debate
DESCRIPTION:Ein Vortrag von Dr. Karma Ben Johanan (The Hebrew University\, Jerusalem).\n\n\n\nDie Frage „Was ist Antisemitismus?“ ist heute so aktuell wie eh und je. Sie steht im Zentrum der brisantesten politischen Konflikte unserer Zeit. Interessanterweise spielt die Religion\, insbesondere die christliche Religion\, in den gegenwärtigen Debatten über Verbreitung\, Geschichte und Gegenwart des Antisemitismus nur eine untergeordnete Rolle. In ihrem Vortrag wird Dr. Karma Ben Johanan die derzeitigen politischen Diskussionen in säkularen Kontexten über die Definition von Antisemitismus mit der christlichen Tradition und ihrer Ambivalenz gegenüber Juden*Jüdinnen und Judentum in Verbindung bringen. Sie wird anregen\, die gegenwärtigen Debatten als Rekonfigurationen traditioneller innerchristlicher Spannungen in Bezug auf die jüdischen Schriften\, die jüdische Geschichte und die jüdische Hermeneutik in der westlichen Gesellschaft nach 1945 zu verstehen. Dahinter steht die These\, dass die öffentliche Kontroverse über die Frage\, was Antisemitismus ist\, eng mit dem ambivalenten christlichen Verständnis der Juden*Jüdinnen als Teil des christlichen (und insbesondere des westlichen) Selbst und der Wahrnehmung der Juden*Jüdinnen als die Anderen des Christentums zusammenhängt. \n\n\n\nEine Veranstaltung des Buber-Rosenzweig-Instituts für jüdische Geistes- und Kulturgeschichte der Moderne und Gegenwart\, in Kooperation mit dem Deutschen Koordinierungsrat der Gesellschaften für Christlich-Jüdische Zusammenarbeit und dem Forschungsverbund „Dynamiken des Religiösen: Konstellationen der ‚Nachbarschaft‘ in Judentum\, Christentum und Islam“. \n\n\n\nWeitere Informationen auf der Website des Buber-Rosenzweig-Instituts. Anmeldung erwünscht an kramberger@em.uni-frankfurt.de.
URL:https://dynamiken-des-religioesen.uni-frankfurt.de/event/christian-ambivalence-and-the-current-antisemitism-debate/
LOCATION:Goethe-Universität\, Campus Westend\, Casino-Gebäude\, Raum 1.801\, Frankfurt am Main
CATEGORIES:Start_3
ATTACH;FMTTYPE=image/webp:https://dynamiken-des-religioesen.uni-frankfurt.de/wp-content/uploads/2024/02/bri-plakat-buber-lecture-2024-724x1024-1.webp
ORGANIZER;CN="Buber-Rosenzweig-Institut f%C3%BCr j%C3%BCdische Geistes- und Kulturwissenschaft der Moderne und Gegenwart":MAILTO:Kramberger@em.uni-frankfurt.de
END:VEVENT
END:VCALENDAR